BEGIN:VCALENDAR
VERSION:2.0
PRODID:-//wp-events-plugin.com//7.2.3.1//EN
TZID:America/Los_Angeles
X-WR-TIMEZONE:America/Los_Angeles
BEGIN:VEVENT
UID:31@brsmedia.com
DTSTART;VALUE=DATE:20250406
DTEND;VALUE=DATE:20250410
DTSTAMP:20250121T225456Z
URL:https://brsmedia.com/events/nablv25/
SUMMARY:NAB Show Las Vegas 2025
DESCRIPTION:&nbsp\;\n\nNAB Show is the premier destination for leaders in t
 he media and entertainment industries. It convenes decision-makers from ar
 ound the globe\, offering valuable insights\, cutting-edge tools\, and inn
 ovative technologies that enable storytelling at scale
CATEGORIES:Internet Radio,Podcast,Radio
LOCATION:Las Vegas Convention Center\, 3150 Paradise Road\, Las Vegas\, NV\
 , 89109\, United States
GEO:36.1325407;-115.15532989999997
X-APPLE-STRUCTURED-LOCATION;VALUE=URI;X-ADDRESS=3150 Paradise Road\, Las Ve
 gas\, NV\, 89109\, United States;X-APPLE-RADIUS=100;X-TITLE=Las Vegas Conv
 ention Center:geo:36.1325407,-115.15532989999997
END:VEVENT
END:VCALENDAR